BEGIN:VCALENDAR
VERSION:2.0
PRODID:-//Squarespace Inc/Squarespace 6//v6//EN
BEGIN:VEVENT
UID:5e5881c2c849e53ad7fec649@squarespace.com
DTSTAMP:20200228T030136Z
DTSTART:20200410T013000Z
DTEND:20200412T013000Z
SUMMARY:Easter at Morley
GEO:-31.902761;115.934373
LOCATION:Morley Baptist Church Inc.\, 33 Hanwell Way\, Bassendean\, WA\, 60
 54\, Australia
END:VEVENT
END:VCALENDAR
