BEGIN:VCALENDAR
VERSION:2.0
PRODID:-//Squarespace Inc/Squarespace 6//v6//EN
BEGIN:VEVENT
UID:5e587a366e31e45f81169102@squarespace.com
DTSTAMP:20200228T022757Z
DTSTART:20200329T013000Z
DTEND:20200329T030000Z
SUMMARY:Baptism Sunday
GEO:-31.902761;115.934373
LOCATION:Morley Baptist Church Inc.\, 33 Hanwell Way\, Bassendean\, WA\, 60
 54\, Australia
END:VEVENT
END:VCALENDAR
