BEGIN:VCALENDAR
VERSION:2.0
PRODID:-//Squarespace Inc/Squarespace 6//v6//EN
BEGIN:VEVENT
UID:5e5879c9b6e437500ea600f2@squarespace.com
DTSTAMP:20200228T022544Z
DTSTART:20200322T013000Z
DTEND:20200322T030000Z
SUMMARY:Child Dedication
GEO:-31.902761;115.934373
LOCATION:Morley Baptist Church Inc.\, 33 Hanwell Way\, Bassendean\, WA\, 60
 54\, Australia
END:VEVENT
END:VCALENDAR
