BEGIN:VCALENDAR
VERSION:2.0
PRODID:-//Squarespace Inc/Squarespace 6//v6//EN
BEGIN:VEVENT
UID:5e587ac108be6a26a8432bb8@squarespace.com
DTSTAMP:20200228T023030Z
DTSTART:20200426T013000Z
DTEND:20200426T050000Z
SUMMARY:Praise and Prayer Sunday with Fellowship Lunch
GEO:-31.902761;115.934373
LOCATION:Morley Baptist Church Inc\, 33 Hanwell Way\, Bassendean\, WA\, 605
 4\, Australia
END:VEVENT
END:VCALENDAR
