BEGIN:VCALENDAR
VERSION:2.0
PRODID:-//Squarespace Inc/Squarespace 6//v6//EN
BEGIN:VEVENT
UID:5e1bc94f8964386381392247@squarespace.com
DTSTAMP:20200124T103907Z
DTSTART:20200216T013000Z
DTEND:20200216T060000Z
SUMMARY:Welcome To The City 2020!
GEO:-31.902761;115.934373
LOCATION:Morley Baptist Church inc\, 33 Hanwell Way\, Bassendean\, WA\, 605
 4\, Australia
END:VEVENT
END:VCALENDAR
