BEGIN:VCALENDAR
VERSION:2.0
PRODID:-//Squarespace Inc/Squarespace 6//v6//EN
BEGIN:VEVENT
UID:5e18070a65c626738a329841@squarespace.com
DTSTAMP:20200110T051102Z
DTSTART:20200121T013000Z
DTEND:20200121T043000Z
SUMMARY:Messy Play Day
GEO:-31.902761;115.934373
LOCATION:Morley Baptist Church Inc\, 33 Hanwell Way\, Bassendean\, WA\, 605
 4\, Australia
END:VEVENT
END:VCALENDAR
